BEGIN:VCALENDAR
VERSION:2.0
PRODID:ics.tools Combinder v1.3
BEGIN:VEVENT
DTSTART;VALUE=DATE:20150202
DTEND;VALUE=DATE:20150208
SUMMARY:Winterferien 2015 Berlin
UID:e6f9f24dcd420555dc47953f342ede3aa6eeb9189f933e1d588521062400de79@ferien
 .ics.tools
URL:https://ics.tools
CREATED:20251101T220703Z
LAST-MODIFIED:20251101T220703Z
DTSTAMP:20161231T032002Z
TRANSP:TRANSPARENT
END:VEVENT
BEGIN:VEVENT
DTSTART;VALUE=DATE:20150330
DTEND;VALUE=DATE:20150412
SUMMARY:Osterferien 2015 Berlin
UID:639bbcba553881045c2e95091cf5dd6fcd265d89e6b98535f877fa47879880e6@ferien
 .ics.tools
URL:https://ics.tools
CREATED:20251101T220703Z
LAST-MODIFIED:20251101T220703Z
DTSTAMP:20161231T032002Z
TRANSP:TRANSPARENT
END:VEVENT
BEGIN:VEVENT
DTSTART;VALUE=DATE:20150515
DTEND;VALUE=DATE:20150516
SUMMARY:Pfingstferien 2015 Berlin
UID:afd15eec632ad208f1232383c5c49dba652a3d0c11befd23b351fe502c6dd4c4@ferien
 .ics.tools
URL:https://ics.tools
CREATED:20251101T220703Z
LAST-MODIFIED:20251101T220703Z
DTSTAMP:20161231T032002Z
TRANSP:TRANSPARENT
END:VEVENT
BEGIN:VEVENT
DTSTART;VALUE=DATE:20150526
DTEND;VALUE=DATE:20150527
SUMMARY:Pfingstferien 2015 Berlin
UID:4ca20a6222f5d78c1fe9f460d8fb5e70884f877c598449b6bcaaee22c054be3b@ferien
 .ics.tools
URL:https://ics.tools
CREATED:20251101T220703Z
LAST-MODIFIED:20251101T220703Z
DTSTAMP:20161231T032002Z
TRANSP:TRANSPARENT
END:VEVENT
BEGIN:VEVENT
DTSTART;VALUE=DATE:20150716
DTEND;VALUE=DATE:20150829
SUMMARY:Sommerferien 2015 Berlin
UID:664b19a0c0420946b4ab6e7cb821328ccde9475a245ffab8a36d85e6b87d5bac@ferien
 .ics.tools
URL:https://ics.tools
CREATED:20251101T220703Z
LAST-MODIFIED:20251101T220703Z
DTSTAMP:20161231T032002Z
TRANSP:TRANSPARENT
END:VEVENT
BEGIN:VEVENT
DTSTART;VALUE=DATE:20151019
DTEND;VALUE=DATE:20151101
SUMMARY:Herbstferien 2015 Berlin
UID:52408232294e7054cb50727a668dc06cb47dd5d183691bb783def1d6f69d703f@ferien
 .ics.tools
URL:https://ics.tools
CREATED:20251101T220703Z
LAST-MODIFIED:20251101T220703Z
DTSTAMP:20161231T032002Z
TRANSP:TRANSPARENT
END:VEVENT
BEGIN:VEVENT
DTSTART;VALUE=DATE:20151223
DTEND;VALUE=DATE:20160103
SUMMARY:Weihnachtsferien 2015 Berlin
UID:885b48d248f1d3b2f667f7045eb24e3d858f99e43db2ef86d81578f487f3bd71@ferien
 .ics.tools
URL:https://ics.tools
CREATED:20251101T220703Z
LAST-MODIFIED:20251101T220703Z
DTSTAMP:20161231T032002Z
TRANSP:TRANSPARENT
END:VEVENT
BEGIN:VEVENT
DTSTART;VALUE=DATE:20160201
DTEND;VALUE=DATE:20160207
SUMMARY:Winterferien 2016 Berlin
UID:544ecbf46d42970c2cb10a341b75f2eba72900c2038d99b3d1eabb186d2361ea@ferien
 .ics.tools
URL:https://ics.tools
CREATED:20251101T220703Z
LAST-MODIFIED:20251101T220703Z
DTSTAMP:20171231T032003Z
TRANSP:TRANSPARENT
END:VEVENT
BEGIN:VEVENT
DTSTART;VALUE=DATE:20160321
DTEND;VALUE=DATE:20160403
SUMMARY:Osterferien 2016 Berlin
UID:c27be1c04c63efb407fa8e79e6d122145fc2b5a87dd12dc0a88eb7043096f431@ferien
 .ics.tools
URL:https://ics.tools
CREATED:20251101T220703Z
LAST-MODIFIED:20251101T220703Z
DTSTAMP:20171231T032003Z
TRANSP:TRANSPARENT
END:VEVENT
BEGIN:VEVENT
DTSTART;VALUE=DATE:20160506
DTEND;VALUE=DATE:20160507
SUMMARY:Pfingstferien 2016 Berlin
UID:4c975329dc2160ea44b7bc8c5566a9380395ccc1a649cf7bb16c5f9ce5272e8d@ferien
 .ics.tools
URL:https://ics.tools
CREATED:20251101T220703Z
LAST-MODIFIED:20251101T220703Z
DTSTAMP:20171231T032003Z
TRANSP:TRANSPARENT
END:VEVENT
BEGIN:VEVENT
DTSTART;VALUE=DATE:20160517
DTEND;VALUE=DATE:20160519
SUMMARY:Pfingstferien 2016 Berlin
UID:916c2a96ff7847e38473a67e8ac69fce64f7ddec39fe32f92071930a37528974@ferien
 .ics.tools
URL:https://ics.tools
CREATED:20251101T220703Z
LAST-MODIFIED:20251101T220703Z
DTSTAMP:20171231T032003Z
TRANSP:TRANSPARENT
END:VEVENT
BEGIN:VEVENT
DTSTART;VALUE=DATE:20160721
DTEND;VALUE=DATE:20160903
SUMMARY:Sommerferien 2016 Berlin
UID:779ee3d4b7f9a8aad79ca09abd8cfd3c1372b53592570087d0d334146ebff9ac@ferien
 .ics.tools
URL:https://ics.tools
CREATED:20251101T220703Z
LAST-MODIFIED:20251101T220703Z
DTSTAMP:20171231T032003Z
TRANSP:TRANSPARENT
END:VEVENT
BEGIN:VEVENT
DTSTART;VALUE=DATE:20161017
DTEND;VALUE=DATE:20161029
SUMMARY:Herbstferien 2016 Berlin
UID:61aad0af27a7bd246227f13ef4192839a05f585ed1220e051465376aec0fc36d@ferien
 .ics.tools
URL:https://ics.tools
CREATED:20251101T220703Z
LAST-MODIFIED:20251101T220703Z
DTSTAMP:20171231T032003Z
TRANSP:TRANSPARENT
END:VEVENT
BEGIN:VEVENT
DTSTART;VALUE=DATE:20161223
DTEND;VALUE=DATE:20170104
SUMMARY:Weihnachtsferien 2016 Berlin
UID:c6770149683910e23e20d7c1d2763a941380487590f721baa994a4e990773adb@ferien
 .ics.tools
URL:https://ics.tools
CREATED:20251101T220703Z
LAST-MODIFIED:20251101T220703Z
DTSTAMP:20171231T032003Z
TRANSP:TRANSPARENT
END:VEVENT
BEGIN:VEVENT
DTSTART;VALUE=DATE:20170130
DTEND;VALUE=DATE:20170204
SUMMARY:Winterferien 2017 Berlin
UID:5dcfe28dc46a11ed1e19d2dbebd89cddb73030512c5a9d42aeba440374f822cc@ferien
 .ics.tools
URL:https://ics.tools
CREATED:20251101T220703Z
LAST-MODIFIED:20251101T220703Z
DTSTAMP:20181231T032002Z
TRANSP:TRANSPARENT
END:VEVENT
BEGIN:VEVENT
DTSTART;VALUE=DATE:20170410
DTEND;VALUE=DATE:20170419
SUMMARY:Osterferien 2017 Berlin
UID:72e4350901b8a57effb5b2f5b232a873a8cae2f16315f82a431e6d70c777d17b@ferien
 .ics.tools
URL:https://ics.tools
CREATED:20251101T220703Z
LAST-MODIFIED:20251101T220703Z
DTSTAMP:20181231T032002Z
TRANSP:TRANSPARENT
END:VEVENT
BEGIN:VEVENT
DTSTART;VALUE=DATE:20170606
DTEND;VALUE=DATE:20170610
SUMMARY:Pfingstferien 2017 Berlin
UID:06b7f47162c6d2bd91bb2bddba6451b73d5497063dd529595ba21e2619082c56@ferien
 .ics.tools
URL:https://ics.tools
CREATED:20251101T220703Z
LAST-MODIFIED:20251101T220703Z
DTSTAMP:20181231T032002Z
TRANSP:TRANSPARENT
END:VEVENT
BEGIN:VEVENT
DTSTART;VALUE=DATE:20170524
DTEND;VALUE=DATE:20170527
SUMMARY:Pfingstferien 2017 Berlin
UID:316c7206dd96b8612e0f899b037cdde32be429fdb05b926d68e0090ecd89f968@ferien
 .ics.tools
URL:https://ics.tools
CREATED:20251101T220703Z
LAST-MODIFIED:20251101T220703Z
DTSTAMP:20181231T032002Z
TRANSP:TRANSPARENT
END:VEVENT
BEGIN:VEVENT
DTSTART;VALUE=DATE:20170720
DTEND;VALUE=DATE:20170902
SUMMARY:Sommerferien 2017 Berlin
UID:58e3a2cf938532ad0313bd1706bb91b9f4527b6b7189acf093fdc228b17f4b8a@ferien
 .ics.tools
URL:https://ics.tools
CREATED:20251101T220703Z
LAST-MODIFIED:20251101T220703Z
DTSTAMP:20181231T032002Z
TRANSP:TRANSPARENT
END:VEVENT
BEGIN:VEVENT
DTSTART;VALUE=DATE:20171023
DTEND;VALUE=DATE:20171105
SUMMARY:Herbstferien 2017 Berlin
UID:e7eec2109b9da32a46d3fd0394fdc394c1a86a689c2fe79d4e986cafc4234af0@ferien
 .ics.tools
URL:https://ics.tools
CREATED:20251101T220703Z
LAST-MODIFIED:20251101T220703Z
DTSTAMP:20181231T032002Z
TRANSP:TRANSPARENT
END:VEVENT
BEGIN:VEVENT
DTSTART;VALUE=DATE:20171002
DTEND;VALUE=DATE:20171003
SUMMARY:Herbstferien 2017 Berlin
UID:62271ed8f4867a180d959a9461c780146c13c22c16c974281ab38cb83dcdeb99@ferien
 .ics.tools
URL:https://ics.tools
CREATED:20251101T220703Z
LAST-MODIFIED:20251101T220703Z
DTSTAMP:20181231T032002Z
TRANSP:TRANSPARENT
END:VEVENT
BEGIN:VEVENT
DTSTART;VALUE=DATE:20171221
DTEND;VALUE=DATE:20180103
SUMMARY:Weihnachtsferien 2017 Berlin
UID:e1904bdd231f30a35d604fabf07bc08ed1d4edb47fb84ff53721e9e2d5e7e3f2@ferien
 .ics.tools
URL:https://ics.tools
CREATED:20251101T220703Z
LAST-MODIFIED:20251101T220703Z
DTSTAMP:20181231T032002Z
TRANSP:TRANSPARENT
END:VEVENT
BEGIN:VEVENT
DTSTART;VALUE=DATE:20180205
DTEND;VALUE=DATE:20180211
SUMMARY:Winterferien 2018 Berlin
UID:f3c4680c4026e6f0ecb9f00350a9bd492ec00a24663ef9541154244d9900b788@ferien
 .ics.tools
URL:https://ics.tools
CREATED:20251101T220703Z
LAST-MODIFIED:20251101T220703Z
DTSTAMP:20191231T032002Z
TRANSP:TRANSPARENT
END:VEVENT
BEGIN:VEVENT
DTSTART;VALUE=DATE:20180326
DTEND;VALUE=DATE:20180407
SUMMARY:Osterferien 2018 Berlin
UID:348161da82f9565f6b580c0907bd4c070a4c6ec5046cbea75b98d20f20e1e482@ferien
 .ics.tools
URL:https://ics.tools
CREATED:20251101T220703Z
LAST-MODIFIED:20251101T220703Z
DTSTAMP:20191231T032002Z
TRANSP:TRANSPARENT
END:VEVENT
BEGIN:VEVENT
DTSTART;VALUE=DATE:20180430
DTEND;VALUE=DATE:20180501
SUMMARY:Pfingstferien 2018 Berlin
UID:e9f94581e58f73c44340ce998f8f3285794b46493e0da850e18de1de48260ed6@ferien
 .ics.tools
URL:https://ics.tools
CREATED:20251101T220703Z
LAST-MODIFIED:20251101T220703Z
DTSTAMP:20191231T032002Z
TRANSP:TRANSPARENT
END:VEVENT
BEGIN:VEVENT
DTSTART;VALUE=DATE:20180522
DTEND;VALUE=DATE:20180523
SUMMARY:Pfingstferien 2018 Berlin
UID:16f344cad968ce057ab79c7efd8a974471d34e7270e098bfc64bd87fcb8cecda@ferien
 .ics.tools
URL:https://ics.tools
CREATED:20251101T220703Z
LAST-MODIFIED:20251101T220703Z
DTSTAMP:20191231T032002Z
TRANSP:TRANSPARENT
END:VEVENT
BEGIN:VEVENT
DTSTART;VALUE=DATE:20180511
DTEND;VALUE=DATE:20180512
SUMMARY:Pfingstferien 2018 Berlin
UID:652b93d3072631bf0c30107d6af23f5259e90fada67208852eaa85bd4b87cd97@ferien
 .ics.tools
URL:https://ics.tools
CREATED:20251101T220703Z
LAST-MODIFIED:20251101T220703Z
DTSTAMP:20191231T032002Z
TRANSP:TRANSPARENT
END:VEVENT
BEGIN:VEVENT
DTSTART;VALUE=DATE:20180705
DTEND;VALUE=DATE:20180818
SUMMARY:Sommerferien 2018 Berlin
UID:be7afff7d1470c862e103ade3afcb603d4be257f74025f3c0d6f49d053414b34@ferien
 .ics.tools
URL:https://ics.tools
CREATED:20251101T220703Z
LAST-MODIFIED:20251101T220703Z
DTSTAMP:20191231T032002Z
TRANSP:TRANSPARENT
END:VEVENT
BEGIN:VEVENT
DTSTART;VALUE=DATE:20181022
DTEND;VALUE=DATE:20181103
SUMMARY:Herbstferien 2018 Berlin
UID:a016f3523ca7fc28f7a21c192269871b92d081dc4390a5fa12a1689dbe8807c0@ferien
 .ics.tools
URL:https://ics.tools
CREATED:20251101T220703Z
LAST-MODIFIED:20251101T220703Z
DTSTAMP:20191231T032002Z
TRANSP:TRANSPARENT
END:VEVENT
BEGIN:VEVENT
DTSTART;VALUE=DATE:20181222
DTEND;VALUE=DATE:20190106
SUMMARY:Weihnachtsferien 2018 Berlin
UID:a298ebea81c418998dcc1a373745878a26d27be8d6afd7ed7101ff408c56a794@ferien
 .ics.tools
URL:https://ics.tools
CREATED:20251101T220703Z
LAST-MODIFIED:20251101T220703Z
DTSTAMP:20191231T032002Z
TRANSP:TRANSPARENT
END:VEVENT
BEGIN:VEVENT
DTSTART;VALUE=DATE:20190204
DTEND;VALUE=DATE:20190210
SUMMARY:Winterferien 2019 Berlin
UID:58c9acbf109e5263e1ae193a314f30b03a15da79d9ce253acb48e53f800160de@ferien
 .ics.tools
URL:https://ics.tools
CREATED:20251101T220703Z
LAST-MODIFIED:20251101T220703Z
DTSTAMP:20201231T032002Z
TRANSP:TRANSPARENT
END:VEVENT
BEGIN:VEVENT
DTSTART;VALUE=DATE:20190415
DTEND;VALUE=DATE:20190427
SUMMARY:Osterferien 2019 Berlin
UID:4d9d933be256a5cecfc5de506e9f4ddc158e2cab7dfdd7320890296de55a774c@ferien
 .ics.tools
URL:https://ics.tools
CREATED:20251101T220703Z
LAST-MODIFIED:20251101T220703Z
DTSTAMP:20201231T032002Z
TRANSP:TRANSPARENT
END:VEVENT
BEGIN:VEVENT
DTSTART;VALUE=DATE:20190531
DTEND;VALUE=DATE:20190601
SUMMARY:Pfingstferien 2019 Berlin
UID:a860903073661bb2fa0c732bb3fdfd9fe88d595a60d58c5d7eb38a5277303001@ferien
 .ics.tools
URL:https://ics.tools
CREATED:20251101T220703Z
LAST-MODIFIED:20251101T220703Z
DTSTAMP:20201231T032002Z
TRANSP:TRANSPARENT
END:VEVENT
BEGIN:VEVENT
DTSTART;VALUE=DATE:20190611
DTEND;VALUE=DATE:20190612
SUMMARY:Pfingstferien 2019 Berlin
UID:59bc75fb4ed185c8fd47939659d4169129df7c956c738c8111f23e2c9ec3d8f8@ferien
 .ics.tools
URL:https://ics.tools
CREATED:20251101T220703Z
LAST-MODIFIED:20251101T220703Z
DTSTAMP:20201231T032002Z
TRANSP:TRANSPARENT
END:VEVENT
BEGIN:VEVENT
DTSTART;VALUE=DATE:20190620
DTEND;VALUE=DATE:20190803
SUMMARY:Sommerferien 2019 Berlin
UID:64ec64d882ff56caed5ad4aae7a21c8502f7d8f58cd5e97253c24f9e72b83ef3@ferien
 .ics.tools
URL:https://ics.tools
CREATED:20251101T220703Z
LAST-MODIFIED:20251101T220703Z
DTSTAMP:20201231T032002Z
TRANSP:TRANSPARENT
END:VEVENT
BEGIN:VEVENT
DTSTART;VALUE=DATE:20191004
DTEND;VALUE=DATE:20191005
SUMMARY:Herbstferien 2019 Berlin
UID:9b4d36fc9c6408ff393aa5aeecfc0f432958738a402d407564f65d046b6182c2@ferien
 .ics.tools
URL:https://ics.tools
CREATED:20251101T220703Z
LAST-MODIFIED:20251101T220703Z
DTSTAMP:20201231T032002Z
TRANSP:TRANSPARENT
END:VEVENT
BEGIN:VEVENT
DTSTART;VALUE=DATE:20191007
DTEND;VALUE=DATE:20191020
SUMMARY:Herbstferien 2019 Berlin
UID:72e3fa085a04434e5728236ac27c416646a7ea2817e7e2ffa8a03a5c27d2b7a5@ferien
 .ics.tools
URL:https://ics.tools
CREATED:20251101T220703Z
LAST-MODIFIED:20251101T220703Z
DTSTAMP:20201231T032002Z
TRANSP:TRANSPARENT
END:VEVENT
BEGIN:VEVENT
DTSTART;VALUE=DATE:20191223
DTEND;VALUE=DATE:20200105
SUMMARY:Weihnachtsferien 2019 Berlin
UID:d9a4cc1f3ad3a68c234d4c70083b8501e7834b1853b2cde0d6a941ee8118c093@ferien
 .ics.tools
URL:https://ics.tools
CREATED:20251101T220703Z
LAST-MODIFIED:20251101T220703Z
DTSTAMP:20201231T032002Z
TRANSP:TRANSPARENT
END:VEVENT
BEGIN:VEVENT
DTSTART;VALUE=DATE:20200203
DTEND;VALUE=DATE:20200209
SUMMARY:Winterferien 2020 Berlin
UID:1b254c70902f0cfcb0d5f4f44695269896c8764fc6cb84c9c01f58e1e82b1cb0@ferien
 .ics.tools
URL:https://ics.tools
CREATED:20251101T220703Z
LAST-MODIFIED:20251101T220703Z
DTSTAMP:20211231T032001Z
TRANSP:TRANSPARENT
END:VEVENT
BEGIN:VEVENT
DTSTART;VALUE=DATE:20200406
DTEND;VALUE=DATE:20200418
SUMMARY:Osterferien 2020 Berlin
UID:70ae03e76a49d79be14d3b2fabd37bbaac38cc427a058c5671ad04f4c5a7ce1e@ferien
 .ics.tools
URL:https://ics.tools
CREATED:20251101T220703Z
LAST-MODIFIED:20251101T220703Z
DTSTAMP:20211231T032001Z
TRANSP:TRANSPARENT
END:VEVENT
BEGIN:VEVENT
DTSTART;VALUE=DATE:20200522
DTEND;VALUE=DATE:20200523
SUMMARY:Pfingstferien 2020 Berlin
UID:67042d50fbcab610a7bc132676371a0c0e70922b891f1f006f451a8a9a6a31d0@ferien
 .ics.tools
URL:https://ics.tools
CREATED:20251101T220703Z
LAST-MODIFIED:20251101T220703Z
DTSTAMP:20211231T032001Z
TRANSP:TRANSPARENT
END:VEVENT
BEGIN:VEVENT
DTSTART;VALUE=DATE:20200508
DTEND;VALUE=DATE:20200509
SUMMARY:Pfingstferien 2020 Berlin
UID:17e62eeea12d7f3777af2f78557f75cf86586376122c3d1e47291257d0b54b76@ferien
 .ics.tools
URL:https://ics.tools
CREATED:20251101T220703Z
LAST-MODIFIED:20251101T220703Z
DTSTAMP:20211231T032001Z
TRANSP:TRANSPARENT
END:VEVENT
BEGIN:VEVENT
DTSTART;VALUE=DATE:20200625
DTEND;VALUE=DATE:20200808
SUMMARY:Sommerferien 2020 Berlin
UID:42d35479e221e387c5fdbcbea6d669049539eaf6a94bdee593b735babb94401e@ferien
 .ics.tools
URL:https://ics.tools
CREATED:20251101T220703Z
LAST-MODIFIED:20251101T220703Z
DTSTAMP:20211231T032001Z
TRANSP:TRANSPARENT
END:VEVENT
BEGIN:VEVENT
DTSTART;VALUE=DATE:20201012
DTEND;VALUE=DATE:20201025
SUMMARY:Herbstferien 2020 Berlin
UID:084e39132f5a6f2e67be7f8ba4c721035124120a4e78a6f9b15a2fbb32f7b612@ferien
 .ics.tools
URL:https://ics.tools
CREATED:20251101T220703Z
LAST-MODIFIED:20251101T220703Z
DTSTAMP:20211231T032001Z
TRANSP:TRANSPARENT
END:VEVENT
BEGIN:VEVENT
DTSTART;VALUE=DATE:20201221
DTEND;VALUE=DATE:20210103
SUMMARY:Weihnachtsferien 2020 Berlin
UID:78e88aa8de7cfbcb7678dc2ed3029ac0a5fcbe59b9c65629e5d9d6c8b6574854@ferien
 .ics.tools
URL:https://ics.tools
CREATED:20251101T220703Z
LAST-MODIFIED:20251101T220703Z
DTSTAMP:20211231T032001Z
TRANSP:TRANSPARENT
END:VEVENT
BEGIN:VEVENT
DTSTART;VALUE=DATE:20210201
DTEND;VALUE=DATE:20210207
SUMMARY:Winterferien 2021 Berlin
UID:00d5e0c7bcfff6f4763bbc95c1299d7ea51c90895daf83a7a1c15350a3b5b8dc@ferien
 .ics.tools
URL:https://ics.tools
CREATED:20251101T220703Z
LAST-MODIFIED:20251101T220703Z
DTSTAMP:20221010T032001Z
TRANSP:TRANSPARENT
END:VEVENT
BEGIN:VEVENT
DTSTART;VALUE=DATE:20210329
DTEND;VALUE=DATE:20210411
SUMMARY:Osterferien 2021 Berlin
UID:b4103de89ce63b5d86dd4e2c503afdc89ce718f83a153b81e4959a068eed74f2@ferien
 .ics.tools
URL:https://ics.tools
CREATED:20251101T220703Z
LAST-MODIFIED:20251101T220703Z
DTSTAMP:20221010T032001Z
TRANSP:TRANSPARENT
END:VEVENT
BEGIN:VEVENT
DTSTART;VALUE=DATE:20210514
DTEND;VALUE=DATE:20210515
SUMMARY:Pfingstferien 2021 Berlin
UID:297e25d2fb76002f0e86c7856b66d5b1ee491b0dca6cdf93fcd7780936f81f24@ferien
 .ics.tools
URL:https://ics.tools
CREATED:20251101T220703Z
LAST-MODIFIED:20251101T220703Z
DTSTAMP:20221010T032001Z
TRANSP:TRANSPARENT
END:VEVENT
BEGIN:VEVENT
DTSTART;VALUE=DATE:20210624
DTEND;VALUE=DATE:20210807
SUMMARY:Sommerferien 2021 Berlin
UID:66d3a5d96b5248a81bbe50f3ea0e334d2cf9c24d4713de3dc3d4bc436645eed4@ferien
 .ics.tools
URL:https://ics.tools
CREATED:20251101T220703Z
LAST-MODIFIED:20251101T220703Z
DTSTAMP:20221010T032001Z
TRANSP:TRANSPARENT
END:VEVENT
BEGIN:VEVENT
DTSTART;VALUE=DATE:20211011
DTEND;VALUE=DATE:20211024
SUMMARY:Herbstferien 2021 Berlin
UID:02b3a8729cdf67192e61a54fbedaae65ccf5501e2ac62b03d2a3753c2f884628@ferien
 .ics.tools
URL:https://ics.tools
CREATED:20251101T220703Z
LAST-MODIFIED:20251101T220703Z
DTSTAMP:20221010T032001Z
TRANSP:TRANSPARENT
END:VEVENT
BEGIN:VEVENT
DTSTART;VALUE=DATE:20211223
DTEND;VALUE=DATE:20220101
SUMMARY:Weihnachtsferien 2021 Berlin
UID:12e3434baae6d74954405498aab4e6c373ae2d34af9d8938526f11f51972df79@ferien
 .ics.tools
URL:https://ics.tools
CREATED:20251101T220703Z
LAST-MODIFIED:20251101T220703Z
DTSTAMP:20221010T032001Z
TRANSP:TRANSPARENT
END:VEVENT
BEGIN:VEVENT
DTSTART;VALUE=DATE:20220129
DTEND;VALUE=DATE:20220206
SUMMARY:Winterferien 2022 Berlin
UID:c4a8fd6f64b0573ac7c105bf7f4c37df4dec6ea9595226b12da4912eefe7af0f@ferien
 .ics.tools
URL:https://ics.tools
CREATED:20251101T220703Z
LAST-MODIFIED:20251101T220703Z
DTSTAMP:20221010T032001Z
TRANSP:TRANSPARENT
END:VEVENT
BEGIN:VEVENT
DTSTART;VALUE=DATE:20220411
DTEND;VALUE=DATE:20220424
SUMMARY:Osterferien 2022 Berlin
UID:a925e880223973505688fe73ef4ef1d003ec60b5eb9c4b2f0da76feb36a98ccb@ferien
 .ics.tools
URL:https://ics.tools
CREATED:20251101T220703Z
LAST-MODIFIED:20251101T220703Z
DTSTAMP:20221010T032001Z
TRANSP:TRANSPARENT
END:VEVENT
BEGIN:VEVENT
DTSTART;VALUE=DATE:20220307
DTEND;VALUE=DATE:20220308
SUMMARY:Osterferien 2022 Berlin
UID:ece31b9fb2dee1d881b14902f99baa46f71da33615613db03dfe29112d41aa30@ferien
 .ics.tools
URL:https://ics.tools
CREATED:20251101T220703Z
LAST-MODIFIED:20251101T220703Z
DTSTAMP:20221010T032001Z
TRANSP:TRANSPARENT
END:VEVENT
BEGIN:VEVENT
DTSTART;VALUE=DATE:20220527
DTEND;VALUE=DATE:20220528
SUMMARY:Pfingstferien 2022 Berlin
UID:4585588fd03e05acbb8a36d09410a375586e67a2441c65a5651837ebf481059a@ferien
 .ics.tools
URL:https://ics.tools
CREATED:20251101T220703Z
LAST-MODIFIED:20251101T220703Z
DTSTAMP:20221010T032001Z
TRANSP:TRANSPARENT
END:VEVENT
BEGIN:VEVENT
DTSTART;VALUE=DATE:20220607
DTEND;VALUE=DATE:20220608
SUMMARY:Pfingstferien 2022 Berlin
UID:bfcb21351151260cae2ba44734ea7094370ac85c8e6b9aeacbb482b05639bc81@ferien
 .ics.tools
URL:https://ics.tools
CREATED:20251101T220703Z
LAST-MODIFIED:20251101T220703Z
DTSTAMP:20221010T032001Z
TRANSP:TRANSPARENT
END:VEVENT
BEGIN:VEVENT
DTSTART;VALUE=DATE:20220707
DTEND;VALUE=DATE:20220820
SUMMARY:Sommerferien 2022 Berlin
UID:c2e26d69c6fcfd461a86ad795935aca549a4c9f8792c98ce60d263d750d6b3b6@ferien
 .ics.tools
URL:https://ics.tools
CREATED:20251101T220703Z
LAST-MODIFIED:20251101T220703Z
DTSTAMP:20221010T032001Z
TRANSP:TRANSPARENT
END:VEVENT
BEGIN:VEVENT
DTSTART;VALUE=DATE:20221024
DTEND;VALUE=DATE:20221106
SUMMARY:Herbstferien 2022 Berlin
UID:5d51a0b758b2a4d60b850bfd6720e7cf97200c6a98ab03d9edf83063ab79df51@ferien
 .ics.tools
URL:https://ics.tools
CREATED:20251101T220703Z
LAST-MODIFIED:20251101T220703Z
DTSTAMP:20221010T032001Z
TRANSP:TRANSPARENT
END:VEVENT
BEGIN:VEVENT
DTSTART;VALUE=DATE:20221222
DTEND;VALUE=DATE:20230103
SUMMARY:Weihnachtsferien 2022 Berlin
UID:aca000f809e8771662bb0b6ef26bbea184e32c4efd6aa220c2f3466da53d930b@ferien
 .ics.tools
URL:https://ics.tools
CREATED:20251101T220703Z
LAST-MODIFIED:20251101T220703Z
DTSTAMP:20221010T032001Z
TRANSP:TRANSPARENT
END:VEVENT
BEGIN:VEVENT
DTSTART;VALUE=DATE:20230130
DTEND;VALUE=DATE:20230205
SUMMARY:Winterferien 2023 Berlin
UID:b894fde2b3c09494ecb7fc0fcc8ea2c19346ddd198613ebe16f3efa84d1060c6@ferien
 .ics.tools
URL:https://ics.tools
CREATED:20251101T220703Z
LAST-MODIFIED:20251101T220703Z
DTSTAMP:20221010T032001Z
TRANSP:TRANSPARENT
END:VEVENT
BEGIN:VEVENT
DTSTART;VALUE=DATE:20230403
DTEND;VALUE=DATE:20230415
SUMMARY:Osterferien 2023 Berlin
UID:677d548eeec2f93756b85876631b57b6b7e389c3db90a7071d988ce3947ae823@ferien
 .ics.tools
URL:https://ics.tools
CREATED:20251101T220703Z
LAST-MODIFIED:20251101T220703Z
DTSTAMP:20221010T032001Z
TRANSP:TRANSPARENT
END:VEVENT
BEGIN:VEVENT
DTSTART;VALUE=DATE:20230519
DTEND;VALUE=DATE:20230520
SUMMARY:Pfingstferien 2023 Berlin
UID:586dec34a66652f4a62469995f6fc64edd950136e312bd52e05e936463a898a7@ferien
 .ics.tools
URL:https://ics.tools
CREATED:20251101T220703Z
LAST-MODIFIED:20251101T220703Z
DTSTAMP:20221010T032001Z
TRANSP:TRANSPARENT
END:VEVENT
BEGIN:VEVENT
DTSTART;VALUE=DATE:20230530
DTEND;VALUE=DATE:20230531
SUMMARY:Pfingstferien 2023 Berlin
UID:ecd51c58403e8f1d5e34df3a742fd39708f1e59652a4d3a8e4c2a378812dde60@ferien
 .ics.tools
URL:https://ics.tools
CREATED:20251101T220703Z
LAST-MODIFIED:20251101T220703Z
DTSTAMP:20221010T032001Z
TRANSP:TRANSPARENT
END:VEVENT
BEGIN:VEVENT
DTSTART;VALUE=DATE:20230713
DTEND;VALUE=DATE:20230826
SUMMARY:Sommerferien 2023 Berlin
UID:1890ba14025a37850d4877d09b247f9825e237f55b5e6c98912d308c72373418@ferien
 .ics.tools
URL:https://ics.tools
CREATED:20251101T220703Z
LAST-MODIFIED:20251101T220703Z
DTSTAMP:20221010T032001Z
TRANSP:TRANSPARENT
END:VEVENT
BEGIN:VEVENT
DTSTART;VALUE=DATE:20231002
DTEND;VALUE=DATE:20231003
SUMMARY:Herbstferien 2023 Berlin
UID:4fb1ce4f39ab031be223bb8b7897158775fa242a7841bc19273ba78ba8f8888b@ferien
 .ics.tools
URL:https://ics.tools
CREATED:20251101T220703Z
LAST-MODIFIED:20251101T220703Z
DTSTAMP:20221010T032001Z
TRANSP:TRANSPARENT
END:VEVENT
BEGIN:VEVENT
DTSTART;VALUE=DATE:20231023
DTEND;VALUE=DATE:20231105
SUMMARY:Herbstferien 2023 Berlin
UID:d7a094139cd8978ba0c0494c8d7b13d43f6f55cdc37b03304d6437d6d29902bf@ferien
 .ics.tools
URL:https://ics.tools
CREATED:20251101T220703Z
LAST-MODIFIED:20251101T220703Z
DTSTAMP:20221010T032001Z
TRANSP:TRANSPARENT
END:VEVENT
BEGIN:VEVENT
DTSTART;VALUE=DATE:20231223
DTEND;VALUE=DATE:20240106
SUMMARY:Weihnachtsferien 2023 Berlin
UID:5991dd7188dd874e82e2e12220738421359a6ba787185347dc0530f8ddc304ce@ferien
 .ics.tools
URL:https://ics.tools
CREATED:20251101T220703Z
LAST-MODIFIED:20251101T220703Z
DTSTAMP:20221010T032001Z
TRANSP:TRANSPARENT
END:VEVENT
BEGIN:VEVENT
DTSTART;VALUE=DATE:20240205
DTEND;VALUE=DATE:20240211
SUMMARY:Winterferien 2024 Berlin
UID:a95d8fd724efda68d843dbb309f48fc67c82cf90bc54a02ea0675b97206d6558@ferien
 .ics.tools
URL:https://ics.tools
CREATED:20251101T220703Z
LAST-MODIFIED:20251101T220703Z
DTSTAMP:20230630T032002Z
TRANSP:TRANSPARENT
END:VEVENT
BEGIN:VEVENT
DTSTART;VALUE=DATE:20240325
DTEND;VALUE=DATE:20240406
SUMMARY:Osterferien 2024 Berlin
UID:b2fd9609d3841015c680ad344b34aad2c62b25840495fe1ee83b62d2df3aab46@ferien
 .ics.tools
URL:https://ics.tools
CREATED:20251101T220703Z
LAST-MODIFIED:20251101T220703Z
DTSTAMP:20230630T032002Z
TRANSP:TRANSPARENT
END:VEVENT
BEGIN:VEVENT
DTSTART;VALUE=DATE:20240510
DTEND;VALUE=DATE:20240511
SUMMARY:Pfingstferien 2024 Berlin
UID:5aa050984ebda788780725ad049e84cd716d0c0c3c6af259a9eef0b042d698a2@ferien
 .ics.tools
URL:https://ics.tools
CREATED:20251101T220703Z
LAST-MODIFIED:20251101T220703Z
DTSTAMP:20230630T032002Z
TRANSP:TRANSPARENT
END:VEVENT
BEGIN:VEVENT
DTSTART;VALUE=DATE:20240718
DTEND;VALUE=DATE:20240831
SUMMARY:Sommerferien 2024 Berlin
UID:f7ed0bcb640a8ff85e3fe5c88c59f205f32f7e407547c8f19cce7a30439cc88b@ferien
 .ics.tools
URL:https://ics.tools
CREATED:20251101T220703Z
LAST-MODIFIED:20251101T220703Z
DTSTAMP:20230630T032002Z
TRANSP:TRANSPARENT
END:VEVENT
BEGIN:VEVENT
DTSTART;VALUE=DATE:20241021
DTEND;VALUE=DATE:20241103
SUMMARY:Herbstferien 2024 Berlin
UID:2c89b6ef91cca97d02d2a33a3bd48de96e974d6eea46de30e54d6ad0478743aa@ferien
 .ics.tools
URL:https://ics.tools
CREATED:20251101T220703Z
LAST-MODIFIED:20251101T220703Z
DTSTAMP:20230630T032002Z
TRANSP:TRANSPARENT
END:VEVENT
BEGIN:VEVENT
DTSTART;VALUE=DATE:20241004
DTEND;VALUE=DATE:20241005
SUMMARY:Herbstferien 2024 Berlin
UID:7b8b3b30a693123c1856887629e2ba79cda0a4683d2816411656510d9869b0c0@ferien
 .ics.tools
URL:https://ics.tools
CREATED:20251101T220703Z
LAST-MODIFIED:20251101T220703Z
DTSTAMP:20230630T032002Z
TRANSP:TRANSPARENT
END:VEVENT
BEGIN:VEVENT
DTSTART;VALUE=DATE:20241223
DTEND;VALUE=DATE:20250101
SUMMARY:Weihnachtsferien 2024 Berlin
UID:cc1633236e89f5824cf1e8c1a2596e0ad19b726874fd5e4765e4258b2548dbae@ferien
 .ics.tools
URL:https://ics.tools
CREATED:20251101T220703Z
LAST-MODIFIED:20251101T220703Z
DTSTAMP:20230630T032002Z
TRANSP:TRANSPARENT
END:VEVENT
BEGIN:VEVENT
DTSTART;VALUE=DATE:20250203
DTEND;VALUE=DATE:20250209
SUMMARY:Winterferien 2025 Berlin
UID:4db4f5500165ed187a334718fc365dbfe53682779bfe439a4e019be4a50edf69@ferien
 .ics.tools
URL:https://ics.tools
CREATED:20251101T220703Z
LAST-MODIFIED:20251101T220703Z
DTSTAMP:20240313T032001Z
TRANSP:TRANSPARENT
END:VEVENT
BEGIN:VEVENT
DTSTART;VALUE=DATE:20250414
DTEND;VALUE=DATE:20250426
SUMMARY:Osterferien 2025 Berlin
UID:04a2fd4a5318da6bd02fd50d101dcb38e04e9e19434e601996a880a2ee2b9656@ferien
 .ics.tools
URL:https://ics.tools
CREATED:20251101T220703Z
LAST-MODIFIED:20251101T220703Z
DTSTAMP:20240313T032001Z
TRANSP:TRANSPARENT
END:VEVENT
BEGIN:VEVENT
DTSTART;VALUE=DATE:20250502
DTEND;VALUE=DATE:20250503
SUMMARY:Osterferien 2025 Berlin
UID:e99ee689b021be179037cb86f33f9e75cbf6e61ab1f157eb98de4d8eb9a956c1@ferien
 .ics.tools
URL:https://ics.tools
CREATED:20251101T220703Z
LAST-MODIFIED:20251101T220703Z
DTSTAMP:20240313T032001Z
TRANSP:TRANSPARENT
END:VEVENT
BEGIN:VEVENT
DTSTART;VALUE=DATE:20250530
DTEND;VALUE=DATE:20250531
SUMMARY:Osterferien 2025 Berlin
UID:28cd89c1bda43b09215c62dce7d26d182a205206f6cc7df14d5fe5a5d29f90ec@ferien
 .ics.tools
URL:https://ics.tools
CREATED:20251101T220703Z
LAST-MODIFIED:20251101T220703Z
DTSTAMP:20240313T032001Z
TRANSP:TRANSPARENT
END:VEVENT
BEGIN:VEVENT
DTSTART;VALUE=DATE:20250610
DTEND;VALUE=DATE:20250611
SUMMARY:Pfingstferien 2025 Berlin
UID:e8b2af65b2e175280541c0dedad92e1baf3d753529e37012d6c7f4c77f206e83@ferien
 .ics.tools
URL:https://ics.tools
CREATED:20251101T220703Z
LAST-MODIFIED:20251101T220703Z
DTSTAMP:20240313T032001Z
TRANSP:TRANSPARENT
END:VEVENT
BEGIN:VEVENT
DTSTART;VALUE=DATE:20250724
DTEND;VALUE=DATE:20250907
SUMMARY:Sommerferien 2025 Berlin
UID:f12beda8f314187ea4db53f3c08e85f91b9b6e552a85ddb455d3c40dd2e85598@ferien
 .ics.tools
URL:https://ics.tools
CREATED:20251101T220703Z
LAST-MODIFIED:20251101T220703Z
DTSTAMP:20240313T032001Z
TRANSP:TRANSPARENT
END:VEVENT
BEGIN:VEVENT
DTSTART;VALUE=DATE:20251020
DTEND;VALUE=DATE:20251102
SUMMARY:Herbstferien 2025 Berlin
UID:96a1d3b0d8bfe33afbd570dd460487e998aac811ed31c6a2abffbe3f6c007886@ferien
 .ics.tools
URL:https://ics.tools
CREATED:20251101T220703Z
LAST-MODIFIED:20251101T220703Z
DTSTAMP:20240313T032001Z
TRANSP:TRANSPARENT
END:VEVENT
BEGIN:VEVENT
DTSTART;VALUE=DATE:20251222
DTEND;VALUE=DATE:20260103
SUMMARY:Weihnachtsferien 2025 Berlin
UID:0fe211080d775165bfdaabf4a6dc160f9eba052d853dfaf3f71cc921f7686aac@ferien
 .ics.tools
URL:https://ics.tools
CREATED:20251101T220703Z
LAST-MODIFIED:20251101T220703Z
DTSTAMP:20240313T032001Z
TRANSP:TRANSPARENT
END:VEVENT
BEGIN:VEVENT
DTSTART;VALUE=DATE:20260202
DTEND;VALUE=DATE:20260208
SUMMARY:Winterferien 2026 Berlin
UID:67c13a6252713626c39e6c1d7e4e719a5e016e114ba43b06caa916249a5a7333@ferien
 .ics.tools
URL:https://ics.tools
CREATED:20251101T220703Z
LAST-MODIFIED:20251101T220703Z
DTSTAMP:20250112T032002Z
TRANSP:TRANSPARENT
END:VEVENT
BEGIN:VEVENT
DTSTART;VALUE=DATE:20260330
DTEND;VALUE=DATE:20260411
SUMMARY:Osterferien 2026 Berlin
UID:6210902e5c37738261ee371c995e55f391abfa49d05764c0092b2cbe93505f6f@ferien
 .ics.tools
URL:https://ics.tools
CREATED:20251101T220703Z
LAST-MODIFIED:20251101T220703Z
DTSTAMP:20250112T032002Z
TRANSP:TRANSPARENT
END:VEVENT
BEGIN:VEVENT
DTSTART;VALUE=DATE:20260515
DTEND;VALUE=DATE:20260516
SUMMARY:Osterferien 2026 Berlin
UID:1cc7dbdbb6a9bd0c0dd52c8176b86658fcb08107e27722afcf6c5c1d89bba890@ferien
 .ics.tools
URL:https://ics.tools
CREATED:20251101T220703Z
LAST-MODIFIED:20251101T220703Z
DTSTAMP:20250112T032002Z
TRANSP:TRANSPARENT
END:VEVENT
BEGIN:VEVENT
DTSTART;VALUE=DATE:20260526
DTEND;VALUE=DATE:20260527
SUMMARY:Pfingstferien 2026 Berlin
UID:14be742927b1963921812b50b99f579cd343402c44280f31ee333c2b3a3940f0@ferien
 .ics.tools
URL:https://ics.tools
CREATED:20251101T220703Z
LAST-MODIFIED:20251101T220703Z
DTSTAMP:20250112T032002Z
TRANSP:TRANSPARENT
END:VEVENT
BEGIN:VEVENT
DTSTART;VALUE=DATE:20260709
DTEND;VALUE=DATE:20260823
SUMMARY:Sommerferien 2026 Berlin
UID:1c1697aa3cff065b334b0b8d3da95caca75f7fb48c29eb0510abc0a104fa1ffe@ferien
 .ics.tools
URL:https://ics.tools
CREATED:20251101T220703Z
LAST-MODIFIED:20251101T220703Z
DTSTAMP:20250112T032002Z
TRANSP:TRANSPARENT
END:VEVENT
BEGIN:VEVENT
DTSTART;VALUE=DATE:20261019
DTEND;VALUE=DATE:20261101
SUMMARY:Herbstferien 2026 Berlin
UID:8b52150f9567890b7783ef5a4157a87466d2df7fe812345557f9f66fc4f64268@ferien
 .ics.tools
URL:https://ics.tools
CREATED:20251101T220703Z
LAST-MODIFIED:20251101T220703Z
DTSTAMP:20250112T032002Z
TRANSP:TRANSPARENT
END:VEVENT
BEGIN:VEVENT
DTSTART;VALUE=DATE:20261223
DTEND;VALUE=DATE:20270103
SUMMARY:Weihnachtsferien 2026 Berlin
UID:35b0321a28d3cbd47a011e05390416e8a195e163d44378d7d26e792feaf5c15f@ferien
 .ics.tools
URL:https://ics.tools
CREATED:20251101T220703Z
LAST-MODIFIED:20251101T220703Z
DTSTAMP:20250112T032002Z
TRANSP:TRANSPARENT
END:VEVENT
NAME:Berlin Ferien
X-WR-CALNAME:Berlin Ferien
METHOD:PUBLISH
END:VCALENDAR