BEGIN:VCALENDAR
PRODID:-//github.com/ical-org/ical.net//NONSGML ical.net 4.0//EN
VERSION:2.0
BEGIN:VEVENT
CREATED:20260420T032200Z
DESCRIPTION:This is a reminder to submit a session to DevRomagna.\nSet the
  alarm/notification to ensure you don't miss it!\nSessions can be submitt
 ed at https://sessionize.com/devromagna/
DTEND:20270101T225900Z
DTSTAMP:20260420T032200Z
DTSTART:20270101T225900Z
LAST-MODIFIED:20260420T032200Z
LOCATION:https://sessionize.com/devromagna
SEQUENCE:0
SUMMARY:DevRomagna: deadline to submit a session
UID:4eee33ec-22f3-4ac7-bb56-1ad37e8bfc4c
BEGIN:VALARM
ACTION:DISPLAY
DESCRIPTION:Reminder
SUMMARY:DevRomagna: deadline to submit a session
TRIGGER:-P2D
END:VALARM
END:VEVENT
END:VCALENDAR
